BEGIN:VCALENDAR
VERSION:2.0
PRODID:-//Kansas Soil Health Alliance - ECPv6.6.4.2//NONSGML v1.0//EN
CALSCALE:GREGORIAN
METHOD:PUBLISH
X-WR-CALNAME:Kansas Soil Health Alliance
X-ORIGINAL-URL:https://kssoilhealth.org
X-WR-CALDESC:Events for Kansas Soil Health Alliance
REFRESH-INTERVAL;VALUE=DURATION:PT1H
X-Robots-Tag:noindex
X-PUBLISHED-TTL:PT1H
BEGIN:VTIMEZONE
TZID:America/Chicago
BEGIN:DAYLIGHT
TZOFFSETFROM:-0600
TZOFFSETTO:-0500
TZNAME:CDT
DTSTART:20250309T080000
END:DAYLIGHT
BEGIN:STANDARD
TZOFFSETFROM:-0500
TZOFFSETTO:-0600
TZNAME:CST
DTSTART:20251102T070000
END:STANDARD
BEGIN:DAYLIGHT
TZOFFSETFROM:-0600
TZOFFSETTO:-0500
TZNAME:CDT
DTSTART:20260308T080000
END:DAYLIGHT
BEGIN:STANDARD
TZOFFSETFROM:-0500
TZOFFSETTO:-0600
TZNAME:CST
DTSTART:20261101T070000
END:STANDARD
END:VTIMEZONE
BEGIN:VEVENT
DTSTART;TZID=America/Chicago:20260408T080000
DTEND;TZID=America/Chicago:20260408T150000
DTSTAMP:20260424T201457
CREATED:20260324T225736Z
LAST-MODIFIED:20260324T225738Z
UID:10001331-1775635200-1775660400@kssoilhealth.org
SUMMARY:Organic Farming Field Day
DESCRIPTION:Join Acres U.S.A. and OCIA for a day of practical learning\, farmer-to-farmer discussion\, and hands-on insight into organic agriculture. This free field day brings together respected educators\, experienced farmers\, and land managers to explore soil health\, cover crops\, and profitable organic systems. \n\n\n\nThe day begins with a morning conference session and concludes with a guided farm tour at Geiger Farms\, where participants will see organic grain production and regenerative practices in action. \n\n\n\nThis event is designed for farmers\, landowners\, agronomists\, and anyone interested in organic and regenerative agriculture. \n\n\n\nThis organic farming workshop in Hiawatha\, Kansas brings together farmers and soil health experts to share practical strategies for improving soil biology\, cover crop systems\, and regenerative agriculture practices.
URL:https://kssoilhealth.org/event/organic-farming-field-day/
LOCATION:Kleinenfelter Barn Conference Center\, 1774 230th Street\, Hiawatha\, Kansas\, 66434\, United States
CATEGORIES:Northeast Kansas
END:VEVENT
BEGIN:VEVENT
DTSTART;TZID=America/Chicago:20260206T120000
DTEND;TZID=America/Chicago:20260206T130000
DTSTAMP:20260424T201457
CREATED:20260205T000040Z
LAST-MODIFIED:20260205T000043Z
UID:10001220-1770379200-1770382800@kssoilhealth.org
SUMMARY:John Kempf Webinar with Acres USA (VIRTUAL)
DESCRIPTION:What’s in this webinar? Practical insights into soil biology\, plant nutrition\, and crop health. Real-world strategies for building resilient\, biology-driven farming systems. A live Q&A with John Kempf! Bring your questions and get direct answers.
URL:https://kssoilhealth.org/event/john-kempf-webinar-with-acres-usa-virtual/
CATEGORIES:Virtual
END:VEVENT
BEGIN:VEVENT
DTSTART;TZID=America/Chicago:20251201T000000
DTEND;TZID=America/Chicago:20251204T235959
DTSTAMP:20260424T201457
CREATED:20250930T223324Z
LAST-MODIFIED:20250930T223326Z
UID:10001112-1764547200-1764892799@kssoilhealth.org
SUMMARY:ACRES U.S.A: Eco-Ag Conference
DESCRIPTION:Join Acres USA at our 50th Annual Eco-Ag Conference and Trade Show! Back to the Roots: Cultivating a Future Grounded in Tradition and Innovation!
URL:https://kssoilhealth.org/event/acres-u-s-a-eco-ag-conference/
LOCATION:Marriott Madison West\, 1312 John Q Hammons Dr\, Middleton\, Wisconsin\, 53562\, United States
CATEGORIES:Other States
END:VEVENT
END:VCALENDAR