BEGIN:VCALENDAR
VERSION:2.0
PRODID:-//Kansas Soil Health Alliance - ECPv6.6.4.2//NONSGML v1.0//EN
CALSCALE:GREGORIAN
METHOD:PUBLISH
X-WR-CALNAME:Kansas Soil Health Alliance
X-ORIGINAL-URL:https://kssoilhealth.org
X-WR-CALDESC:Events for Kansas Soil Health Alliance
REFRESH-INTERVAL;VALUE=DURATION:PT1H
X-Robots-Tag:noindex
X-PUBLISHED-TTL:PT1H
BEGIN:VTIMEZONE
TZID:America/Chicago
BEGIN:DAYLIGHT
TZOFFSETFROM:-0600
TZOFFSETTO:-0500
TZNAME:CDT
DTSTART:20260308T080000
END:DAYLIGHT
BEGIN:STANDARD
TZOFFSETFROM:-0500
TZOFFSETTO:-0600
TZNAME:CST
DTSTART:20261101T070000
END:STANDARD
END:VTIMEZONE
BEGIN:VEVENT
DTSTART;TZID=America/Chicago:20260512T000000
DTEND;TZID=America/Chicago:20260513T235959
DTSTAMP:20260425T052618
CREATED:20260310T204915Z
LAST-MODIFIED:20260310T204917Z
UID:10001252-1778544000-1778716799@kssoilhealth.org
SUMMARY:Noble Land Essentials
DESCRIPTION:Learn what your land needs to grow the quality forage needed for today’s grazing herds to be healthy\, productive and profitable. Lessons covered include: Getting grounded in regenerative agriculture\, Healthier Soil = A Better Bottom Line\, Understanding your soil health\, Tracking soil health\, Gaining stakeholder buy-in\, Building a personalized action plan
URL:https://kssoilhealth.org/event/noble-land-essentials-3/
LOCATION:Noble Research Institute – Pavilion\, 2715 Sam Noble Parkway\, Ardmore\, Oklahoma\, 73401\, United States
CATEGORIES:Other States
ATTACH;FMTTYPE=image/webp:https://kssoilhealth.org/wp-content/uploads/noble-logo-color-1_1292x420-1.webp
END:VEVENT
BEGIN:VEVENT
DTSTART;TZID=America/Chicago:20260527T080000
DTEND;TZID=America/Chicago:20260529T170000
DTSTAMP:20260425T052618
CREATED:20260204T221908Z
LAST-MODIFIED:20260204T221912Z
UID:10001219-1779868800-1780074000@kssoilhealth.org
SUMMARY:Southern Plains Grasslands Summit
DESCRIPTION:Join producers\, agencies\, and academics for three days of collaboration focused on the future of grasslands across the Southern Plains. With three themed tracks: Working Lands- Ranching\, Wildlife- BioDiversity\, and Conservation- Resources Management.
URL:https://kssoilhealth.org/event/southern-plains-grasslands-summit/
LOCATION:The Salt Fork Event Center\, 27251 County Road 460\, Alva\, Oklahoma\, 73717\, United States
CATEGORIES:Other States
ATTACH;FMTTYPE=image/png:https://kssoilhealth.org/wp-content/uploads/SouthernPlainsSummit2026.png
END:VEVENT
BEGIN:VEVENT
DTSTART;TZID=America/Chicago:20260602T000000
DTEND;TZID=America/Chicago:20260604T235959
DTSTAMP:20260425T052618
CREATED:20260310T215636Z
LAST-MODIFIED:20260310T215638Z
UID:10001257-1780358400-1780617599@kssoilhealth.org
SUMMARY:Business of Grazing
DESCRIPTION:Business of Grazing teaches you how to manage your grazing lands by: Calculating gross margins and identifying profitable ventures to scale while phasing out underperforming areas\, Understanding cost-benefit analysis of key investments like water and fencing through real-life case studies\, and Creating detailed grazing plans to guide daily operations\, support business goals and seize opportunities. \n\n\n\nLincoln University is pleased to offer this special reduced registration rate to producers.
URL:https://kssoilhealth.org/event/business-of-grazing/
LOCATION:Lincoln University George Washington Carver Farm\, 3804 Bald Hill Road\, Jefferson City\, Missouri\, 65101\, United States
CATEGORIES:Other States
ATTACH;FMTTYPE=image/webp:https://kssoilhealth.org/wp-content/uploads/noble-logo-color-1_1292x420-1.webp
END:VEVENT
BEGIN:VEVENT
DTSTART;TZID=America/Chicago:20260710T000000
DTEND;TZID=America/Chicago:20260712T235959
DTSTAMP:20260425T052618
CREATED:20251027T192325Z
LAST-MODIFIED:20251027T192327Z
UID:10001154-1783641600-1783900799@kssoilhealth.org
SUMMARY:51st Annual Four State Farm Show
DESCRIPTION:With the latest in agricultural goods and services from nationwide exhibitors\, there’s plenty to see at the Four State Farm Show.  \n\n\n\nStay tuned for more details!
URL:https://kssoilhealth.org/event/51st-annual-four-state-farm-show/
LOCATION:Pittsburg State University – Robert W Plaster Center\, 1701 S Homer St\, Pittsburg\, Kansas\, 66762\, United States
CATEGORIES:Other States,Southeast Kansas
ATTACH;FMTTYPE=image/webp:https://kssoilhealth.org/wp-content/uploads/FourStateFarmShow2026.webp
END:VEVENT
BEGIN:VEVENT
DTSTART;TZID=America/Chicago:20260726T000000
DTEND;TZID=America/Chicago:20260729T235959
DTSTAMP:20260425T052618
CREATED:20251023T163921Z
LAST-MODIFIED:20251023T163923Z
UID:10001138-1785024000-1785369599@kssoilhealth.org
SUMMARY:81st SWCS International Annual Conference
DESCRIPTION:Meet us in St. Louis! Save the date for the 81st SWCS International Annual Conference\, taking place on July 26-29\, 2026 in St. Louis\, Missouri.
URL:https://kssoilhealth.org/event/81st-swcs-international-annual-conference/
LOCATION:IA
CATEGORIES:Other States
ATTACH;FMTTYPE=image/jpeg:https://kssoilhealth.org/wp-content/uploads/SWCS-International-Ann.-Conf.-Save-Date.jpg
END:VEVENT
BEGIN:VEVENT
DTSTART;TZID=America/Chicago:20260804T000000
DTEND;TZID=America/Chicago:20260806T235959
DTSTAMP:20260425T052618
CREATED:20260226T162519Z
LAST-MODIFIED:20260226T162524Z
UID:10001242-1785801600-1786060799@kssoilhealth.org
SUMMARY:Crops & Cattle Conference & Ag Expo
DESCRIPTION:High Plains Journal invites farmers\, ranchers and ag experts to the Crops & Cattle – Conference & Ag Expo—coming to the Kansas City Convention Center this August. Gain practical strategies that strengthen both your production and your bottom line. From advancing cropping systems to improving cattle performance\, this event delivers real-world education focused on profitability\, efficiency\, and long-term resilience. \n\n\n\n6 general sessions • 20 education sessions • 13 exhibit hours
URL:https://kssoilhealth.org/event/crops-cattle-conference-ag-expo/
LOCATION:Kansas City Convention Center\, 301 W. 13th St. #100\, Kansas City\, Missouri\, 64105\, United States
CATEGORIES:Northeast Kansas,Other States
END:VEVENT
BEGIN:VEVENT
DTSTART;TZID=America/Chicago:20260804T080000
DTEND;TZID=America/Chicago:20260805T170000
DTSTAMP:20260425T052618
CREATED:20260127T200951Z
LAST-MODIFIED:20260127T200953Z
UID:10001210-1785830400-1785949200@kssoilhealth.org
SUMMARY:Green Cover Summer Field Day
DESCRIPTION:Save the Date for this annual field day!
URL:https://kssoilhealth.org/event/green-cover-summer-field-day-3/
LOCATION:Green Cover Seed – Bladen Location\, 918 Road X\, Bladen\, NE\, 68928\, United States
CATEGORIES:Other States
GEO:40.3071032;-98.571887
X-APPLE-STRUCTURED-LOCATION;VALUE=URI;X-ADDRESS=Green Cover Seed – Bladen Location 918 Road X Bladen NE 68928 United States;X-APPLE-RADIUS=500;X-TITLE=918 Road X:geo:-98.571887,40.3071032
END:VEVENT
BEGIN:VEVENT
DTSTART;TZID=America/Chicago:20260901T000000
DTEND;TZID=America/Chicago:20260902T235959
DTSTAMP:20260425T052618
CREATED:20260310T205307Z
LAST-MODIFIED:20260310T205310Z
UID:10001253-1788220800-1788393599@kssoilhealth.org
SUMMARY:Noble Land Essentials
DESCRIPTION:Learn what your land needs to grow the quality forage needed for today’s grazing herds to be healthy\, productive and profitable. Lessons covered include: Getting grounded in regenerative agriculture\, Healthier Soil = A Better Bottom Line\, Understanding your soil health\, Tracking soil health\, Gaining stakeholder buy-in\, Building a personalized action plan. \n\n\n\nLincoln University is pleased to offer this special reduced registration rate to producers.
URL:https://kssoilhealth.org/event/noble-land-essentials-4/
LOCATION:Lincoln University George Washington Carver Farm\, 3804 Bald Hill Road\, Jefferson City\, Missouri\, 65101\, United States
CATEGORIES:Other States
ATTACH;FMTTYPE=image/webp:https://kssoilhealth.org/wp-content/uploads/noble-logo-color-1_1292x420-1.webp
END:VEVENT
BEGIN:VEVENT
DTSTART;TZID=America/Chicago:20260922T000000
DTEND;TZID=America/Chicago:20260924T235959
DTSTAMP:20260425T052618
CREATED:20260310T211700Z
LAST-MODIFIED:20260310T211702Z
UID:10001254-1790035200-1790294399@kssoilhealth.org
SUMMARY:Noble Grazing Essentials
DESCRIPTION:Noble Grazing Essentials teaches you how to manage your grazing lands by: Improving the health and productivity of your soil\, Maximizing forage use without over grazing\, Properly assessing and calculating carrying capacity and stocking rate\, and Implementing adaptive grazing strategies for pasture rest and recovery.  \n\n\n\nLincoln University is pleased to offer this special reduced registration rate to producers.
URL:https://kssoilhealth.org/event/noble-grazing-essentials/
LOCATION:Lincoln University George Washington Carver Farm\, 3804 Bald Hill Road\, Jefferson City\, Missouri\, 65101\, United States
CATEGORIES:Other States
ATTACH;FMTTYPE=image/webp:https://kssoilhealth.org/wp-content/uploads/noble-logo-color-1_1292x420-1.webp
END:VEVENT
BEGIN:VEVENT
DTSTART;TZID=America/Chicago:20260923T000000
DTEND;TZID=America/Chicago:20260924T235959
DTSTAMP:20260425T052618
CREATED:20251002T205241Z
LAST-MODIFIED:20260127T155633Z
UID:10001122-1790121600-1790294399@kssoilhealth.org
SUMMARY:NATGLC Bus Tour: Grazing the Heartland
DESCRIPTION:The journey rolls on — and we’re headed to the heart of the Midwest!  Next stop: Sioux Falls\, SD. \n\n\n\nPrepare for an unforgettable experience celebrating managed grazing\, connection\, and innovation. Tour stops coming soon\, stay tuned!
URL:https://kssoilhealth.org/event/natglc-bus-tour-grazing-the-heartland/
LOCATION:IA
CATEGORIES:Other States
ATTACH;FMTTYPE=image/png:https://kssoilhealth.org/wp-content/uploads/NatGLC-Bus-Tour-2026.png
END:VEVENT
BEGIN:VEVENT
DTSTART;TZID=America/Chicago:20261006T000000
DTEND;TZID=America/Chicago:20261008T235959
DTSTAMP:20260425T052618
CREATED:20260310T211939Z
LAST-MODIFIED:20260310T211941Z
UID:10001255-1791244800-1791503999@kssoilhealth.org
SUMMARY:Noble Grazing Essentials
DESCRIPTION:Noble Grazing Essentials teaches you how to manage your grazing lands by: Improving the health and productivity of your soil\, Maximizing forage use without over grazing\, Properly assessing and calculating carrying capacity and stocking rate\, and Implementing adaptive grazing strategies for pasture rest and recovery.
URL:https://kssoilhealth.org/event/noble-grazing-essentials-2/
LOCATION:Noble Research Institute – Pavilion\, 2715 Sam Noble Parkway\, Ardmore\, Oklahoma\, 73401\, United States
CATEGORIES:Other States
ATTACH;FMTTYPE=image/webp:https://kssoilhealth.org/wp-content/uploads/noble-logo-color-1_1292x420-1.webp
END:VEVENT
BEGIN:VEVENT
DTSTART;TZID=America/Chicago:20261026T000000
DTEND;TZID=America/Chicago:20261027T235959
DTSTAMP:20260425T052618
CREATED:20260403T173411Z
LAST-MODIFIED:20260403T173421Z
UID:10001339-1792972800-1793145599@kssoilhealth.org
SUMMARY:Kansas & Missouri Environmental Education Conference
DESCRIPTION:Save the Date!  The theme this year is- From Soil to the Sky: Systems Connect Us All
URL:https://kssoilhealth.org/event/kansas-missouri-environmental-education-conference/
LOCATION:Kauffman Foundation Conference Center\, 4801 Rockhill Rd\, Kansas City\, Missouri\, 64110\, United States
CATEGORIES:Northeast Kansas,Other States
ATTACH;FMTTYPE=image/jpeg:https://kssoilhealth.org/wp-content/uploads/KACEE-Conference.jpg
END:VEVENT
BEGIN:VEVENT
DTSTART;TZID=America/Chicago:20261110T000000
DTEND;TZID=America/Chicago:20261112T235959
DTSTAMP:20260425T052618
CREATED:20260310T220316Z
LAST-MODIFIED:20260310T220318Z
UID:10001258-1794268800-1794527999@kssoilhealth.org
SUMMARY:Business of Grazing
DESCRIPTION:Business of Grazing teaches you how to manage your grazing lands by: Calculating gross margins and identifying profitable ventures to scale while phasing out underperforming areas\, Understanding cost-benefit analysis of key investments like water and fencing through real-life case studies\, and Creating detailed grazing plans to guide daily operations\, support business goals and seize opportunities.
URL:https://kssoilhealth.org/event/business-of-grazing-4/
LOCATION:Noble Research Institute – Pavilion\, 2715 Sam Noble Parkway\, Ardmore\, Oklahoma\, 73401\, United States
CATEGORIES:Other States
ATTACH;FMTTYPE=image/webp:https://kssoilhealth.org/wp-content/uploads/noble-logo-color-1_1292x420-1.webp
END:VEVENT
END:VCALENDAR