BEGIN:VCALENDAR
VERSION:2.0
PRODID:-//Kansas Soil Health Alliance - ECPv6.6.4.2//NONSGML v1.0//EN
CALSCALE:GREGORIAN
METHOD:PUBLISH
X-WR-CALNAME:Kansas Soil Health Alliance
X-ORIGINAL-URL:https://kssoilhealth.org
X-WR-CALDESC:Events for Kansas Soil Health Alliance
REFRESH-INTERVAL;VALUE=DURATION:PT1H
X-Robots-Tag:noindex
X-PUBLISHED-TTL:PT1H
BEGIN:VTIMEZONE
TZID:America/Chicago
BEGIN:DAYLIGHT
TZOFFSETFROM:-0600
TZOFFSETTO:-0500
TZNAME:CDT
DTSTART:20250309T080000
END:DAYLIGHT
BEGIN:STANDARD
TZOFFSETFROM:-0500
TZOFFSETTO:-0600
TZNAME:CST
DTSTART:20251102T070000
END:STANDARD
END:VTIMEZONE
BEGIN:VEVENT
DTSTART;TZID=America/Chicago:20251208T080000
DTEND;TZID=America/Chicago:20251209T170000
DTSTAMP:20260424T221315
CREATED:20250221T203019Z
LAST-MODIFIED:20250221T203022Z
UID:10000933-1765180800-1765299600@kssoilhealth.org
SUMMARY:The Big Soil Health Event
DESCRIPTION:THE BIG SOIL HEALTH EVENT provides producers\, landowners\, and ag industry members with a ground-up educational experience.  While many conferences inspire and teach\, THE BIG SOIL HEALTH EVENT encourages and illuminates soil health practice adoption. 
URL:https://kssoilhealth.org/event/the-big-soil-health-event/
LOCATION:Bien Venu Event Center\, 7400 Hudson Road\, Cedar Falls\, IA\, 50613\, United States
CATEGORIES:Other States
ATTACH;FMTTYPE=image/webp:https://kssoilhealth.org/wp-content/uploads/Big-Soil-Health-Event.webp
GEO:42.4713135;-92.4663564
X-APPLE-STRUCTURED-LOCATION;VALUE=URI;X-ADDRESS=Bien Venu Event Center 7400 Hudson Road Cedar Falls IA 50613 United States;X-APPLE-RADIUS=500;X-TITLE=7400 Hudson Road:geo:-92.4663564,42.4713135
END:VEVENT
END:VCALENDAR