BEGIN:VCALENDAR
VERSION:2.0
PRODID:-//Kansas Soil Health Alliance - ECPv6.6.4.2//NONSGML v1.0//EN
CALSCALE:GREGORIAN
METHOD:PUBLISH
X-ORIGINAL-URL:https://kssoilhealth.org
X-WR-CALDESC:Events for Kansas Soil Health Alliance
REFRESH-INTERVAL;VALUE=DURATION:PT1H
X-Robots-Tag:noindex
X-PUBLISHED-TTL:PT1H
BEGIN:VTIMEZONE
TZID:America/Chicago
BEGIN:DAYLIGHT
TZOFFSETFROM:-0600
TZOFFSETTO:-0500
TZNAME:CDT
DTSTART:20250309T080000
END:DAYLIGHT
BEGIN:STANDARD
TZOFFSETFROM:-0500
TZOFFSETTO:-0600
TZNAME:CST
DTSTART:20251102T070000
END:STANDARD
END:VTIMEZONE
BEGIN:VEVENT
DTSTART;TZID=America/Chicago:20251024T083000
DTEND;TZID=America/Chicago:20251024T160000
DTSTAMP:20260424T221810
CREATED:20250930T224237Z
LAST-MODIFIED:20250930T224242Z
UID:10001113-1761294600-1761321600@kssoilhealth.org
SUMMARY:Carbon\, Cattle\, and Collars
DESCRIPTION:Join us for a full day soil health and grazing workshop in Kit Carson\, CO. Discover how grazing can build healthier soils\, stronger grasslands\, and capture carbon. This workshop features morning visits to Flying Diamond and Collins Ranch and afternoon soil health talks from Grassroots Carbon and Burke Teichert  from Understanding Ag.
URL:https://kssoilhealth.org/event/carbon-cattle-and-collars/
LOCATION:Kit Carson High School\, 102 W 5th Ave\, Kit Carson\, Colorado\, 80825\, United States
CATEGORIES:Other States
ATTACH;FMTTYPE=application/pdf:https://kssoilhealth.org/wp-content/uploads/Eastern-Co-Grasslands-Coalition-event.pdf
END:VEVENT
END:VCALENDAR