BEGIN:VCALENDAR
VERSION:2.0
PRODID:-//Kansas Soil Health Alliance - ECPv6.6.4.2//NONSGML v1.0//EN
CALSCALE:GREGORIAN
METHOD:PUBLISH
X-ORIGINAL-URL:https://kssoilhealth.org
X-WR-CALDESC:Events for Kansas Soil Health Alliance
REFRESH-INTERVAL;VALUE=DURATION:PT1H
X-Robots-Tag:noindex
X-PUBLISHED-TTL:PT1H
BEGIN:VTIMEZONE
TZID:America/Chicago
BEGIN:DAYLIGHT
TZOFFSETFROM:-0600
TZOFFSETTO:-0500
TZNAME:CDT
DTSTART:20250309T080000
END:DAYLIGHT
BEGIN:STANDARD
TZOFFSETFROM:-0500
TZOFFSETTO:-0600
TZNAME:CST
DTSTART:20251102T070000
END:STANDARD
END:VTIMEZONE
BEGIN:VEVENT
DTSTART;TZID=America/Chicago:20251022T000000
DTEND;TZID=America/Chicago:20251023T235959
DTSTAMP:20260424T150801
CREATED:20250313T141550Z
LAST-MODIFIED:20251007T194425Z
UID:10000946-1761091200-1761263999@kssoilhealth.org
SUMMARY:Soil Health and Livestock Workshop
DESCRIPTION:Join us for a unique regional training highlighting the science\, management\, and soil health benefits of integrating livestock into the farm. The workshop is led by ISU Extension in collaboration with the Soil Health Nexus. We welcome agriculture & conservation professionals as well as farmers\, landowners and students to attend. 
URL:https://kssoilhealth.org/event/soil-health-and-livestock-workshop/
LOCATION:Iowa State University Extension and Outreach\, Ames\, Iowa\, 50011\, United States
CATEGORIES:Other States
ATTACH;FMTTYPE=image/png:https://kssoilhealth.org/wp-content/uploads/soil_health_and_livestock.png
END:VEVENT
BEGIN:VEVENT
DTSTART;TZID=America/Chicago:20251023T083000
DTEND;TZID=America/Chicago:20251023T160000
DTSTAMP:20260424T150801
CREATED:20251001T151215Z
LAST-MODIFIED:20251001T151219Z
UID:10001119-1761208200-1761235200@kssoilhealth.org
SUMMARY:Regenerative Backyard Gardening & Large Produce Growers Workshop
DESCRIPTION:Ready to take your garden to the next level? Join Understanding Ag consultants Rodney Saunders and Marni Thompson as you learn how to boost market value\, build soil health\, grow nutrient-dense foods\, and keep gardening fun– all while reducing labor and building resiliency.
URL:https://kssoilhealth.org/event/regenerative-backyard-gardening-large-produce-growers-workshop/
LOCATION:Boone Electric Cooperative Community Building\, 1413 Rangeline St\, Columbia\, Missouri\, 65201\, United States
CATEGORIES:Other States
ATTACH;FMTTYPE=image/jpeg:https://kssoilhealth.org/wp-content/uploads/UA-Regen.-Backyard-Gardening.jpg
END:VEVENT
BEGIN:VEVENT
DTSTART;TZID=America/Chicago:20251024T083000
DTEND;TZID=America/Chicago:20251024T160000
DTSTAMP:20260424T150801
CREATED:20250930T224237Z
LAST-MODIFIED:20250930T224242Z
UID:10001113-1761294600-1761321600@kssoilhealth.org
SUMMARY:Carbon\, Cattle\, and Collars
DESCRIPTION:Join us for a full day soil health and grazing workshop in Kit Carson\, CO. Discover how grazing can build healthier soils\, stronger grasslands\, and capture carbon. This workshop features morning visits to Flying Diamond and Collins Ranch and afternoon soil health talks from Grassroots Carbon and Burke Teichert  from Understanding Ag.
URL:https://kssoilhealth.org/event/carbon-cattle-and-collars/
LOCATION:Kit Carson High School\, 102 W 5th Ave\, Kit Carson\, Colorado\, 80825\, United States
CATEGORIES:Other States
ATTACH;FMTTYPE=application/pdf:https://kssoilhealth.org/wp-content/uploads/Eastern-Co-Grasslands-Coalition-event.pdf
END:VEVENT
BEGIN:VEVENT
DTSTART;TZID=America/Chicago:20251028T083000
DTEND;TZID=America/Chicago:20251029T163000
DTSTAMP:20260424T150801
CREATED:20251001T150233Z
LAST-MODIFIED:20251001T150235Z
UID:10001118-1761640200-1761755400@kssoilhealth.org
SUMMARY:Regenerative Livestock Production Workshop
DESCRIPTION:Learn from Understanding Ag consultants Rodney Saunders and Luke Jones as they share practical strategies to extend your grazing season\, reduce input costs\, and make farming enjoyable again.
URL:https://kssoilhealth.org/event/regenerative-livestock-production-workshop/
LOCATION:2S Angus Ranch\, 4586 Jute Road\, Seneca\, Missouri\, 65865\, United States
CATEGORIES:Other States
ATTACH;FMTTYPE=image/jpeg:https://kssoilhealth.org/wp-content/uploads/UA-Regen.-Livestock-Production.jpg
END:VEVENT
END:VCALENDAR